BEGIN:VCALENDAR
VERSION:2.0
PRODID:-//Roomers Consult - ECPv6.15.10//NONSGML v1.0//EN
CALSCALE:GREGORIAN
METHOD:PUBLISH
X-ORIGINAL-URL:https://roomers-consult.de
X-WR-CALDESC:Events for Roomers Consult
REFRESH-INTERVAL;VALUE=DURATION:PT1H
X-Robots-Tag:noindex
X-PUBLISHED-TTL:PT1H
BEGIN:VTIMEZONE
TZID:UTC
BEGIN:STANDARD
TZOFFSETFROM:+0000
TZOFFSETTO:+0000
TZNAME:UTC
DTSTART:20250101T000000
END:STANDARD
END:VTIMEZONE
BEGIN:VEVENT
DTSTART;TZID=UTC:20260508T230000
DTEND;TZID=UTC:20260509T180000
DTSTAMP:20260423T235452
CREATED:20260120T132846Z
LAST-MODIFIED:20260331T092455Z
UID:3185-1778281200-1778349600@roomers-consult.de
SUMMARY:ART OF LIVING - Livestyle Event MALLORCA
DESCRIPTION:  \nART OF LIVING\nA refined experience for those who shape spaces and define how we live\n\nWhere ideas become spaces\nArt of Living introduces a new kind of experience in Mallorca — one that is calm\, curated\, and intentionally focused. \nSet within the distinctive architecture of BLAU PROJECTS\, the event brings together selected manufacturers and brands with those who are actively shaping living and hospitality environments. \nThis is not about display.\nIt is about substance. \nMaterials\, products\, and solutions presented in a setting that allows for clarity\, perspective\, and meaningful exchange. \n\nA curated selection of quality\nA refined group of manufacturers presents products for: \n\nprivate residences\, villas\, and fincas\ninterior and architectural applications\nboutique hotels and hospitality concepts\n\nEach brand has been selected for its quality\, design integrity\, and relevance in contemporary Mediterranean living. \nHere\, discovery happens naturally — through materials\, details\, and conversation. \n\nFor those who create with intention\nArt of Living is designed for individuals who approach projects with care and vision: \nPrivate homeowners shaping their living spaces\nArchitects and designers seeking refined solutions\nHoteliers and restaurateurs creating distinctive environments \nPeople who value quality over quantity.\nAnd clarity over noise. \n\nAn atmosphere that invites exchange\nThe experience is defined by its tone:\ncalm\, personal\, and considered. \nNo crowds.\nNo distractions. \nInstead\, space for genuine conversations\, thoughtful exploration\, and new perspectives. \nConnections are made naturally — between people\, ideas\, and possibilities. \n\nFriday evening: a moment to connect\nAs the day transitions into evening\, the atmosphere shifts. \nThe BBQ & Networking Evening brings a sense of ease and warmth: \nSoft light\, relaxed music\, and a carefully curated setting\nA premium BBQ experience\nConversations that continue beyond the day \nAn evening that reflects the essence of Art of Living:\neffortless\, refined\, and connected. \n\nA different kind of event\nArt of Living is not a trade fair.\nIt is not a staged exhibition. \nIt is a space for clarity\, inspiration\, and meaningful encounters —\nfor those who are shaping how we live. \n\nJoin us and experience a curated world of design and living.
URL:https://roomers-consult.de/event/art-of-living/
LOCATION:BLAU Projects – Son Bugadelles\, Palma de Mallorca\, Palma de Mallorca\, 07003\, Spain
ATTACH;FMTTYPE=image/jpeg:https://roomers-consult.de/wp-content/uploads/2026/01/Titelbild.jpg
ORGANIZER;CN="ROOMERS CONSULT -Brigitte Br%C3%BCnjes":MAILTO:info@roomers-consult.de
END:VEVENT
END:VCALENDAR