BEGIN:VCALENDAR
VERSION:2.0
PRODID:-//Roomers Consult - ECPv6.15.10//NONSGML v1.0//EN
CALSCALE:GREGORIAN
METHOD:PUBLISH
X-WR-CALNAME:Roomers Consult
X-ORIGINAL-URL:https://roomers-consult.de
X-WR-CALDESC:Events for Roomers Consult
REFRESH-INTERVAL;VALUE=DURATION:PT1H
X-Robots-Tag:noindex
X-PUBLISHED-TTL:PT1H
BEGIN:VTIMEZONE
TZID:UTC
BEGIN:STANDARD
TZOFFSETFROM:+0000
TZOFFSETTO:+0000
TZNAME:UTC
DTSTART:20240101T000000
END:STANDARD
END:VTIMEZONE
BEGIN:VEVENT
DTSTART;TZID=UTC:20250527T160000
DTEND;TZID=UTC:20250527T190000
DTSTAMP:20260424T140922
CREATED:20250922T115008Z
LAST-MODIFIED:20250925T094050Z
UID:2225-1748361600-1748372400@roomers-consult.de
SUMMARY:Elevating Spaces - We present TRACK Volume K
DESCRIPTION:The HOGASEARCH event series “Elevating Spaces” welcomes you to this elegant JUNG showroom with the presentation of innovative products for the construction and operation of hotels\, private houses and residential complexes. The event will be moderated by interior designer Brigitte Brünjes from Roomers Consult. The aim of our event series is to present innovative products to architects\, interior designers\, specialist planners and private builders while at the same time providing space for exchanging experiences and networking \nTRACK by Volume K\nThe stage for your Favourite pieces\nYour lifestyle\, your TRACK. A shelving system\, individually manufactured from high-quality materials\, with delicate radii and elegant colour compositions. TRACK has a clear design language – restrained\, but with  character. This makes the shelving system perfect for any interior style. \n\n\nJOIN US AT – JUNG SHOWROOM Palma de Mallorca\, 07003\n\n\nPresent your products on our exposed exhibition area. \n\n\nPlease enable JavaScript in your browser to complete this form.Full Name *		\n			Additional Full Number\n			\n		\n		Email *Phone Number *Select Ticket Type *--- Select Choice ---FreeGeneralVIPStudentPayment Details *Additional Info *Submit
URL:https://roomers-consult.de/event/elevating-spaces-we-present-track-volume-k/
LOCATION:BLAU Projects – Son Bugadelles\, Palma de Mallorca\, Palma de Mallorca\, 07003\, Spain
ATTACH;FMTTYPE=image/jpeg:https://roomers-consult.de/wp-content/uploads/2025/09/frqr4xaosgfhwnhgv7ve.jpg
ORGANIZER;CN="ROOMERS CONSULT -Brigitte Br%C3%BCnjes":MAILTO:info@roomers-consult.de
END:VEVENT
END:VCALENDAR