BEGIN:VCALENDAR
VERSION:2.0
PRODID:-//Roomers Consult - ECPv6.15.10//NONSGML v1.0//EN
CALSCALE:GREGORIAN
METHOD:PUBLISH
X-ORIGINAL-URL:https://roomers-consult.de
X-WR-CALDESC:Events for Roomers Consult
REFRESH-INTERVAL;VALUE=DURATION:PT1H
X-Robots-Tag:noindex
X-PUBLISHED-TTL:PT1H
BEGIN:VTIMEZONE
TZID:UTC
BEGIN:STANDARD
TZOFFSETFROM:+0000
TZOFFSETTO:+0000
TZNAME:UTC
DTSTART:20240101T000000
END:STANDARD
END:VTIMEZONE
BEGIN:VEVENT
DTSTART;TZID=UTC:20250524T080000
DTEND;TZID=UTC:20250525T170000
DTSTAMP:20260424T125812
CREATED:20250922T120609Z
LAST-MODIFIED:20251029T041731Z
UID:2234-1748073600-1748192400@roomers-consult.de
SUMMARY:Mallorca Summer House - Sencelles
DESCRIPTION:Inspiring shopping and experience offers\n\n\n\n\nA wonderful place in the middle of the most beautiful wine region of Mallorca \nWe present a selection of curated and hand-picked products from the areas of interior design\, outdoor furniture\, fashion\, arts and crafts and accessories. Our culinary marketplace will inspire you. \n\nFor the Whole Family: Spend an unforgettable day with your loved ones and explore exclusive fashion\, sustainable design items\, and innovative products for both children and adults. \n\n\nPrivate Builders\, Take Note: Whether building new or renovating – benefit from exclusive consultations and find the latest building solutions\, furniture\, and decoration ideas to make your dream home a reality. \n\n\nHoteliers and Restaurateurs: Gain valuable insights and the latest trends for your hotel or restaurant. Discover tailored furniture solutions\, modern kitchen technology\, and innovative services that will elevate your business to the next level. \n\n\nExclusive Offers: Take advantage of special discounts and deals that are only available at this event! \n\n\nJOIN US – Become an exhibitor.\n\n\nPresent your products on our exposed exhibition area \n\n\nPlease enable JavaScript in your browser to complete this form.Full Name *		\n			Number Full Ticket\n			\n		\n		Email *Phone Number *Select Ticket Type *--- Select Choice ---FreeGeneralVIPStudentPayment Details *Additional Info *Submit
URL:https://roomers-consult.de/event/mallorca-summer-house-sencelles/
ATTACH;FMTTYPE=image/jpeg:https://roomers-consult.de/wp-content/uploads/2025/09/GR56405-qsu9s23v1oqj8q2hfzo3h3lwfrzbymr82q5yiasiu0.jpg
END:VEVENT
END:VCALENDAR